3.148422704
0.099671853
0.099671853
-3.148422704
666669.6046
4730884.525
