3.148422704
0.099671853
0.099671853
-3.148422704
669577.3756
4730995.65
