3.148422704
0.099671853
0.099671853
-3.148422704
614218.6046
4738255.817
