3.148422704
0.099671853
0.099671853
-3.148422704
631591.1456
4738792.921
