3.148422704
0.099671853
0.099671853
-3.148422704
643222.2296
4739274.463
