3.148422704
0.099671853
0.099671853
-3.148422704
646167.0416
4739367.067
