3.148422704
0.099671853
0.099671853
-3.148422704
651945.5416
4739589.317
