3.148586027
0.094371774
0.094371774
-3.148586027
540582.4052
4736308.025
