3.147399807
0.127962719
0.127962719
-3.147399807
552140.9678
4736456.323
