3.147399807
0.127962719
0.127962719
-3.147399807
575329.0508
4737067.511
