3.147399807
0.127962719
0.127962719
-3.147399807
581014.9468
4737197.156
