3.147399807
0.127962719
0.127962719
-3.147399807
589682.6968
4737419.406
