3.147399807
0.127962719
0.127962719
-3.147399807
604462.3218
4737826.865
