3.148586027
0.094371774
0.094371774
-3.148586027
602694.6309
4747050.06
