3.148586027
0.094371774
0.094371774
-3.148586027
640421.5679
4748272.435
