3.148586027
0.094371774
0.094371774
-3.148586027
654738.1719
4748753.977
