3.148586027
0.094371774
0.094371774
-3.148586027
660627.7969
4749013.268
