3.148586027
0.094371774
0.094371774
-3.148586027
683815.8809
4749994.873
