3.148586027
0.094371774
0.094371774
-3.148586027
601701.1552
4747068.63
