3.148586027
0.094371774
0.094371774
-3.148586027
575438.6142
4746457.442
