3.148586027
0.094371774
0.094371774
-3.148586027
558084.5932
4746031.463
