3.148586027
0.094371774
0.094371774
-3.148586027
543619.8222
4745735.13
