3.148643845
0.092422592
0.092422592
-3.148643845
605292.8878
4756390.206
