3.148643845
0.092422592
0.092422592
-3.148643845
608163.6168
4756482.81
