3.148643845
0.092422592
0.092422592
-3.148643845
610978.7838
4756575.414
