3.148643845
0.092422592
0.092422592
-3.148643845
628332.8048
4757093.998
