3.148643845
0.092422592
0.092422592
-3.148643845
639926.8468
4757445.894
