3.148643845
0.092422592
0.092422592
-3.148643845
648576.0758
4757779.269
