3.148643845
0.092422592
0.092422592
-3.148643845
688895.9298
4759353.539
