3.148643845
0.092422592
0.092422592
-3.148643845
538654.9298
4754927.06
