3.148643845
0.092422592
0.092422592
-3.148643845
544600.1168
4755038.185
