3.148643845
0.092422592
0.092422592
-3.148643845
550360.0968
4755223.394
