3.148643845
0.092422592
0.092422592
-3.148643845
553230.8258
4755260.435
