3.148643845
0.092422592
0.092422592
-3.148643845
559009.3258
4755390.081
