3.148643845
0.092422592
0.092422592
-3.148643845
561861.5338
4755427.123
