3.148643845
0.092422592
0.092422592
-3.148643845
567751.1588
4755556.769
