3.148643845
0.092422592
0.092422592
-3.148643845
585012.5758
4755964.227
