3.148643845
0.092422592
0.092422592
-3.148643845
590828.1168
4756038.31
