3.147399807
0.127962719
0.127962719
-3.147399807
613826.7485
4765769.401
