3.147399807
0.127962719
0.127962719
-3.147399807
636977.7895
4766695.443
