3.147399807
0.127962719
0.127962719
-3.147399807
680798.0815
4768640.13
