3.147399807
0.127962719
0.127962719
-3.147399807
686169.1235
4768843.859
