3.147399807
0.127962719
0.127962719
-3.147399807
606425.5298
4765534.032
