3.147399807
0.127962719
0.127962719
-3.147399807
592479.3428
4765108.052
