3.147399807
0.127962719
0.127962719
-3.147399807
554807.9678
4763978.282
