3.147399807
0.127962719
0.127962719
-3.147399807
537528.0298
4763515.261
