3.148794788
0.087128555
0.087128555
-3.148794788
559060.89
4773963.272
