3.148794788
0.087128555
0.087128555
-3.148794788
573562.703
4774259.606
