3.148794788
0.087128555
0.087128555
-3.148794788
576433.432
4774333.689
