3.148794788
0.087128555
0.087128555
-3.148794788
596658.182
4774796.71
